BEGIN:VCALENDAR
VERSION:2.0
PRODID:-//eventon.com NONSGML v1.0//EN
CALSCALE:GREGORIAN
METHOD:PUBLISH
BEGIN:VEVENT
UID:69e738c3d03ed
DTSTAMP:20260421T084347Z
DTSTART:20260228T100000Z
DTEND:20260228T160000Z
LOCATION:
SUMMARY:Michigan High School Mock Trial (Volunteers and Judges NEEDED!)
DESCRIPTION:Welcome Welcome to the 2025-2026 Michigan Mock Trial Season! Th
 ank you for embracing one of the best programs to advance civic and legal e
 ducation. We appreciate each one of you and our sponsors for making this ha
 ppen. We are now registering all schools and volunteers through Tabroom. Th
 is process may[..]\nhttps://www.detroitlawyer.org/events/michigan-high-scho
 ol-mock-trial-volunteers-and-judges-needed/
URL:https://www.detroitlawyer.org/events/michigan-high-school-mock-trial-volunteers-and-judges-needed/
END:VEVENT
END:VCALENDAR