BEGIN:VCALENDAR
VERSION:2.0
PRODID:-//eventon.com NONSGML v1.0//EN
CALSCALE:GREGORIAN
METHOD:PUBLISH
BEGIN:VEVENT
UID:69e7748d3e6a0
DTSTAMP:20260421T125853Z
DTSTART:20250412T103000Z
DTEND:20250412T133000Z
LOCATION:
SUMMARY:Call for Volunteer Judges for UMOJA Debate League
DESCRIPTION:Each month Detroit middle school and high school students parti
 cipate in the competition.  They need volunteer judges and want to expose 
 students to law careers.  Location is TBD. To volunteer please contact: Co
 ntact: Jerjuan A. Howard Email: j.howard@umojadebateteam.org Website: umoja
 debateteam.org\nhttps://www.detroitlawyer.org/events/call-for-volunteer-jud
 ges-for-umoja-debate-league-copy-copy/
URL:https://www.detroitlawyer.org/events/call-for-volunteer-judges-for-umoja-debate-league-copy-copy/
END:VEVENT
END:VCALENDAR